BEGIN:VCALENDAR
VERSION:2.0
PRODID:-//Jacksonville, IL - ECPv6.15.20//NONSGML v1.0//EN
CALSCALE:GREGORIAN
METHOD:PUBLISH
X-ORIGINAL-URL:http://jacksonvilleil.org.dream.website
X-WR-CALDESC:Events for Jacksonville, IL
REFRESH-INTERVAL;VALUE=DURATION:PT1H
X-Robots-Tag:noindex
X-PUBLISHED-TTL:PT1H
BEGIN:VTIMEZONE
TZID:America/Chicago
BEGIN:DAYLIGHT
TZOFFSETFROM:-0600
TZOFFSETTO:-0500
TZNAME:CDT
DTSTART:20250309T080000
END:DAYLIGHT
BEGIN:STANDARD
TZOFFSETFROM:-0500
TZOFFSETTO:-0600
TZNAME:CST
DTSTART:20251102T070000
END:STANDARD
BEGIN:DAYLIGHT
TZOFFSETFROM:-0600
TZOFFSETTO:-0500
TZNAME:CDT
DTSTART:20260308T080000
END:DAYLIGHT
BEGIN:STANDARD
TZOFFSETFROM:-0500
TZOFFSETTO:-0600
TZNAME:CST
DTSTART:20261101T070000
END:STANDARD
BEGIN:DAYLIGHT
TZOFFSETFROM:-0600
TZOFFSETTO:-0500
TZNAME:CDT
DTSTART:20270314T080000
END:DAYLIGHT
BEGIN:STANDARD
TZOFFSETFROM:-0500
TZOFFSETTO:-0600
TZNAME:CST
DTSTART:20271107T070000
END:STANDARD
END:VTIMEZONE
BEGIN:VEVENT
DTSTART;TZID=America/Chicago:20260701T150000
DTEND;TZID=America/Chicago:20260701T160000
DTSTAMP:20260421T195615
CREATED:20230120T210722Z
LAST-MODIFIED:20230222T153006Z
UID:10001463-1782918000-1782921600@jacksonvilleil.org.dream.website
SUMMARY:Storytime @ Library
DESCRIPTION:Story Time and Baby Story time are back! And we’re excited to announce that we will be resuming Baby Storytime at 10AM on Wednesdays. \nContact Courtney Langdon at 217-243-5435.
URL:http://jacksonvilleil.org.dream.website/event/storytime-2/2026-07-01/
LOCATION:Jacksonville Public Library\, 201 W College Ave\, Jacksonville\, IL\, 62650\, United States
END:VEVENT
BEGIN:VEVENT
DTSTART;TZID=America/Chicago:20260703T100000
DTEND;TZID=America/Chicago:20260703T113000
DTSTAMP:20260421T195615
CREATED:20230120T212002Z
LAST-MODIFIED:20230120T212002Z
UID:10001720-1783072800-1783078200@jacksonvilleil.org.dream.website
SUMMARY:Baby Storytime
DESCRIPTION:Join the Library for stories\, songs\, and rhymes! \nStory Time and Baby Story time are back! And we’re excited to announce that we will be resuming afternoon Story Time at 3 PM every Wednesday as well!\n\nFor more information call the library at 217-243-5435
URL:http://jacksonvilleil.org.dream.website/event/baby-storytime/2026-07-03/
LOCATION:Jacksonville Public Library\, 201 W College Ave\, Jacksonville\, IL\, 62650\, United States
END:VEVENT
BEGIN:VEVENT
DTSTART;TZID=America/Chicago:20260704T103000
DTEND;TZID=America/Chicago:20260704T110000
DTSTAMP:20260421T195615
CREATED:20230120T212418Z
LAST-MODIFIED:20230120T212418Z
UID:10001975-1783161000-1783162800@jacksonvilleil.org.dream.website
SUMMARY:Storytime @ Our Town Books
DESCRIPTION:Story Time is read by local school librarian\, Cathy Sheeley\, and always has a special theme. Our STORY TIME is always free and open to the public\, and generally geared to children ages 0-8\, but all are welcome! \nContact at Our Town Books for more information at 217-245-2665
URL:http://jacksonvilleil.org.dream.website/event/storytime-our-town-books/2026-07-04/
LOCATION:Our Town Books\, 64 East Central Park Plaza\, Jacksonville\, IL\, 62650\, United States
END:VEVENT
BEGIN:VEVENT
DTSTART;TZID=America/Chicago:20260708T150000
DTEND;TZID=America/Chicago:20260708T160000
DTSTAMP:20260421T195615
CREATED:20230120T210722Z
LAST-MODIFIED:20230222T153006Z
UID:10001464-1783522800-1783526400@jacksonvilleil.org.dream.website
SUMMARY:Storytime @ Library
DESCRIPTION:Story Time and Baby Story time are back! And we’re excited to announce that we will be resuming Baby Storytime at 10AM on Wednesdays. \nContact Courtney Langdon at 217-243-5435.
URL:http://jacksonvilleil.org.dream.website/event/storytime-2/2026-07-08/
LOCATION:Jacksonville Public Library\, 201 W College Ave\, Jacksonville\, IL\, 62650\, United States
END:VEVENT
BEGIN:VEVENT
DTSTART;TZID=America/Chicago:20260710T100000
DTEND;TZID=America/Chicago:20260710T113000
DTSTAMP:20260421T195615
CREATED:20230120T212002Z
LAST-MODIFIED:20230120T212002Z
UID:10001721-1783677600-1783683000@jacksonvilleil.org.dream.website
SUMMARY:Baby Storytime
DESCRIPTION:Join the Library for stories\, songs\, and rhymes! \nStory Time and Baby Story time are back! And we’re excited to announce that we will be resuming afternoon Story Time at 3 PM every Wednesday as well!\n\nFor more information call the library at 217-243-5435
URL:http://jacksonvilleil.org.dream.website/event/baby-storytime/2026-07-10/
LOCATION:Jacksonville Public Library\, 201 W College Ave\, Jacksonville\, IL\, 62650\, United States
END:VEVENT
BEGIN:VEVENT
DTSTART;TZID=America/Chicago:20260711T103000
DTEND;TZID=America/Chicago:20260711T110000
DTSTAMP:20260421T195615
CREATED:20230120T212418Z
LAST-MODIFIED:20230120T212418Z
UID:10001976-1783765800-1783767600@jacksonvilleil.org.dream.website
SUMMARY:Storytime @ Our Town Books
DESCRIPTION:Story Time is read by local school librarian\, Cathy Sheeley\, and always has a special theme. Our STORY TIME is always free and open to the public\, and generally geared to children ages 0-8\, but all are welcome! \nContact at Our Town Books for more information at 217-245-2665
URL:http://jacksonvilleil.org.dream.website/event/storytime-our-town-books/2026-07-11/
LOCATION:Our Town Books\, 64 East Central Park Plaza\, Jacksonville\, IL\, 62650\, United States
END:VEVENT
BEGIN:VEVENT
DTSTART;TZID=America/Chicago:20260715T150000
DTEND;TZID=America/Chicago:20260715T160000
DTSTAMP:20260421T195615
CREATED:20230120T210722Z
LAST-MODIFIED:20230222T153006Z
UID:10001465-1784127600-1784131200@jacksonvilleil.org.dream.website
SUMMARY:Storytime @ Library
DESCRIPTION:Story Time and Baby Story time are back! And we’re excited to announce that we will be resuming Baby Storytime at 10AM on Wednesdays. \nContact Courtney Langdon at 217-243-5435.
URL:http://jacksonvilleil.org.dream.website/event/storytime-2/2026-07-15/
LOCATION:Jacksonville Public Library\, 201 W College Ave\, Jacksonville\, IL\, 62650\, United States
END:VEVENT
BEGIN:VEVENT
DTSTART;TZID=America/Chicago:20260717T100000
DTEND;TZID=America/Chicago:20260717T113000
DTSTAMP:20260421T195615
CREATED:20230120T212002Z
LAST-MODIFIED:20230120T212002Z
UID:10001722-1784282400-1784287800@jacksonvilleil.org.dream.website
SUMMARY:Baby Storytime
DESCRIPTION:Join the Library for stories\, songs\, and rhymes! \nStory Time and Baby Story time are back! And we’re excited to announce that we will be resuming afternoon Story Time at 3 PM every Wednesday as well!\n\nFor more information call the library at 217-243-5435
URL:http://jacksonvilleil.org.dream.website/event/baby-storytime/2026-07-17/
LOCATION:Jacksonville Public Library\, 201 W College Ave\, Jacksonville\, IL\, 62650\, United States
END:VEVENT
BEGIN:VEVENT
DTSTART;TZID=America/Chicago:20260718T103000
DTEND;TZID=America/Chicago:20260718T110000
DTSTAMP:20260421T195615
CREATED:20230120T212418Z
LAST-MODIFIED:20230120T212418Z
UID:10001977-1784370600-1784372400@jacksonvilleil.org.dream.website
SUMMARY:Storytime @ Our Town Books
DESCRIPTION:Story Time is read by local school librarian\, Cathy Sheeley\, and always has a special theme. Our STORY TIME is always free and open to the public\, and generally geared to children ages 0-8\, but all are welcome! \nContact at Our Town Books for more information at 217-245-2665
URL:http://jacksonvilleil.org.dream.website/event/storytime-our-town-books/2026-07-18/
LOCATION:Our Town Books\, 64 East Central Park Plaza\, Jacksonville\, IL\, 62650\, United States
END:VEVENT
BEGIN:VEVENT
DTSTART;TZID=America/Chicago:20260722T150000
DTEND;TZID=America/Chicago:20260722T160000
DTSTAMP:20260421T195615
CREATED:20230120T210722Z
LAST-MODIFIED:20230222T153006Z
UID:10001466-1784732400-1784736000@jacksonvilleil.org.dream.website
SUMMARY:Storytime @ Library
DESCRIPTION:Story Time and Baby Story time are back! And we’re excited to announce that we will be resuming Baby Storytime at 10AM on Wednesdays. \nContact Courtney Langdon at 217-243-5435.
URL:http://jacksonvilleil.org.dream.website/event/storytime-2/2026-07-22/
LOCATION:Jacksonville Public Library\, 201 W College Ave\, Jacksonville\, IL\, 62650\, United States
END:VEVENT
BEGIN:VEVENT
DTSTART;TZID=America/Chicago:20260724T100000
DTEND;TZID=America/Chicago:20260724T113000
DTSTAMP:20260421T195615
CREATED:20230120T212002Z
LAST-MODIFIED:20230120T212002Z
UID:10001723-1784887200-1784892600@jacksonvilleil.org.dream.website
SUMMARY:Baby Storytime
DESCRIPTION:Join the Library for stories\, songs\, and rhymes! \nStory Time and Baby Story time are back! And we’re excited to announce that we will be resuming afternoon Story Time at 3 PM every Wednesday as well!\n\nFor more information call the library at 217-243-5435
URL:http://jacksonvilleil.org.dream.website/event/baby-storytime/2026-07-24/
LOCATION:Jacksonville Public Library\, 201 W College Ave\, Jacksonville\, IL\, 62650\, United States
END:VEVENT
BEGIN:VEVENT
DTSTART;TZID=America/Chicago:20260725T103000
DTEND;TZID=America/Chicago:20260725T110000
DTSTAMP:20260421T195615
CREATED:20230120T212418Z
LAST-MODIFIED:20230120T212418Z
UID:10001978-1784975400-1784977200@jacksonvilleil.org.dream.website
SUMMARY:Storytime @ Our Town Books
DESCRIPTION:Story Time is read by local school librarian\, Cathy Sheeley\, and always has a special theme. Our STORY TIME is always free and open to the public\, and generally geared to children ages 0-8\, but all are welcome! \nContact at Our Town Books for more information at 217-245-2665
URL:http://jacksonvilleil.org.dream.website/event/storytime-our-town-books/2026-07-25/
LOCATION:Our Town Books\, 64 East Central Park Plaza\, Jacksonville\, IL\, 62650\, United States
END:VEVENT
BEGIN:VEVENT
DTSTART;TZID=America/Chicago:20260729T150000
DTEND;TZID=America/Chicago:20260729T160000
DTSTAMP:20260421T195615
CREATED:20230120T210722Z
LAST-MODIFIED:20230222T153006Z
UID:10001467-1785337200-1785340800@jacksonvilleil.org.dream.website
SUMMARY:Storytime @ Library
DESCRIPTION:Story Time and Baby Story time are back! And we’re excited to announce that we will be resuming Baby Storytime at 10AM on Wednesdays. \nContact Courtney Langdon at 217-243-5435.
URL:http://jacksonvilleil.org.dream.website/event/storytime-2/2026-07-29/
LOCATION:Jacksonville Public Library\, 201 W College Ave\, Jacksonville\, IL\, 62650\, United States
END:VEVENT
BEGIN:VEVENT
DTSTART;TZID=America/Chicago:20260731T100000
DTEND;TZID=America/Chicago:20260731T113000
DTSTAMP:20260421T195615
CREATED:20230120T212002Z
LAST-MODIFIED:20230120T212002Z
UID:10001724-1785492000-1785497400@jacksonvilleil.org.dream.website
SUMMARY:Baby Storytime
DESCRIPTION:Join the Library for stories\, songs\, and rhymes! \nStory Time and Baby Story time are back! And we’re excited to announce that we will be resuming afternoon Story Time at 3 PM every Wednesday as well!\n\nFor more information call the library at 217-243-5435
URL:http://jacksonvilleil.org.dream.website/event/baby-storytime/2026-07-31/
LOCATION:Jacksonville Public Library\, 201 W College Ave\, Jacksonville\, IL\, 62650\, United States
END:VEVENT
END:VCALENDAR