BEGIN:VCALENDAR
VERSION:2.0
PRODID:-//Jacksonville, IL - ECPv6.15.20//NONSGML v1.0//EN
CALSCALE:GREGORIAN
METHOD:PUBLISH
X-WR-CALNAME:Jacksonville, IL
X-ORIGINAL-URL:http://jacksonvilleil.org.dream.website
X-WR-CALDESC:Events for Jacksonville, IL
REFRESH-INTERVAL;VALUE=DURATION:PT1H
X-Robots-Tag:noindex
X-PUBLISHED-TTL:PT1H
BEGIN:VTIMEZONE
TZID:America/Chicago
BEGIN:DAYLIGHT
TZOFFSETFROM:-0600
TZOFFSETTO:-0500
TZNAME:CDT
DTSTART:20250309T080000
END:DAYLIGHT
BEGIN:STANDARD
TZOFFSETFROM:-0500
TZOFFSETTO:-0600
TZNAME:CST
DTSTART:20251102T070000
END:STANDARD
BEGIN:DAYLIGHT
TZOFFSETFROM:-0600
TZOFFSETTO:-0500
TZNAME:CDT
DTSTART:20260308T080000
END:DAYLIGHT
BEGIN:STANDARD
TZOFFSETFROM:-0500
TZOFFSETTO:-0600
TZNAME:CST
DTSTART:20261101T070000
END:STANDARD
BEGIN:DAYLIGHT
TZOFFSETFROM:-0600
TZOFFSETTO:-0500
TZNAME:CDT
DTSTART:20270314T080000
END:DAYLIGHT
BEGIN:STANDARD
TZOFFSETFROM:-0500
TZOFFSETTO:-0600
TZNAME:CST
DTSTART:20271107T070000
END:STANDARD
BEGIN:DAYLIGHT
TZOFFSETFROM:-0600
TZOFFSETTO:-0500
TZNAME:CDT
DTSTART:20280312T080000
END:DAYLIGHT
BEGIN:STANDARD
TZOFFSETFROM:-0500
TZOFFSETTO:-0600
TZNAME:CST
DTSTART:20281105T070000
END:STANDARD
BEGIN:DAYLIGHT
TZOFFSETFROM:-0600
TZOFFSETTO:-0500
TZNAME:CDT
DTSTART:20290311T080000
END:DAYLIGHT
BEGIN:STANDARD
TZOFFSETFROM:-0500
TZOFFSETTO:-0600
TZNAME:CST
DTSTART:20291104T070000
END:STANDARD
END:VTIMEZONE
BEGIN:VEVENT
DTSTART;TZID=America/Chicago:20260514T100000
DTEND;TZID=America/Chicago:20260514T110000
DTSTAMP:20260419T215111
CREATED:20230120T212754Z
LAST-MODIFIED:20230120T212754Z
UID:10002094-1778752800-1778756400@jacksonvilleil.org.dream.website
SUMMARY:Grief Support Group
DESCRIPTION:Jacksonville Memorial Hospital’s Grief Support Group meets every 2nd and 4th Thursdays of each month at 10AM. \nCall 217-479-5755 for more information
URL:http://jacksonvilleil.org.dream.website/event/grief-support-group/2026-05-14/
LOCATION:Jacksonville Memorial Hospital\, 1600 W Walnut St\, Jacksonville\, IL\, 62650\, United States
END:VEVENT
BEGIN:VEVENT
DTSTART;TZID=America/Chicago:20260611T100000
DTEND;TZID=America/Chicago:20260611T110000
DTSTAMP:20260419T215111
CREATED:20230120T212754Z
LAST-MODIFIED:20230120T212754Z
UID:10002095-1781172000-1781175600@jacksonvilleil.org.dream.website
SUMMARY:Grief Support Group
DESCRIPTION:Jacksonville Memorial Hospital’s Grief Support Group meets every 2nd and 4th Thursdays of each month at 10AM. \nCall 217-479-5755 for more information
URL:http://jacksonvilleil.org.dream.website/event/grief-support-group/2026-06-11/
LOCATION:Jacksonville Memorial Hospital\, 1600 W Walnut St\, Jacksonville\, IL\, 62650\, United States
END:VEVENT
BEGIN:VEVENT
DTSTART;TZID=America/Chicago:20260709T100000
DTEND;TZID=America/Chicago:20260709T110000
DTSTAMP:20260419T215111
CREATED:20230120T212754Z
LAST-MODIFIED:20230120T212754Z
UID:10002096-1783591200-1783594800@jacksonvilleil.org.dream.website
SUMMARY:Grief Support Group
DESCRIPTION:Jacksonville Memorial Hospital’s Grief Support Group meets every 2nd and 4th Thursdays of each month at 10AM. \nCall 217-479-5755 for more information
URL:http://jacksonvilleil.org.dream.website/event/grief-support-group/2026-07-09/
LOCATION:Jacksonville Memorial Hospital\, 1600 W Walnut St\, Jacksonville\, IL\, 62650\, United States
END:VEVENT
BEGIN:VEVENT
DTSTART;TZID=America/Chicago:20260813T100000
DTEND;TZID=America/Chicago:20260813T110000
DTSTAMP:20260419T215111
CREATED:20230120T212754Z
LAST-MODIFIED:20230120T212754Z
UID:10002097-1786615200-1786618800@jacksonvilleil.org.dream.website
SUMMARY:Grief Support Group
DESCRIPTION:Jacksonville Memorial Hospital’s Grief Support Group meets every 2nd and 4th Thursdays of each month at 10AM. \nCall 217-479-5755 for more information
URL:http://jacksonvilleil.org.dream.website/event/grief-support-group/2026-08-13/
LOCATION:Jacksonville Memorial Hospital\, 1600 W Walnut St\, Jacksonville\, IL\, 62650\, United States
END:VEVENT
BEGIN:VEVENT
DTSTART;TZID=America/Chicago:20260910T100000
DTEND;TZID=America/Chicago:20260910T110000
DTSTAMP:20260419T215111
CREATED:20230120T212754Z
LAST-MODIFIED:20230120T212754Z
UID:10002098-1789034400-1789038000@jacksonvilleil.org.dream.website
SUMMARY:Grief Support Group
DESCRIPTION:Jacksonville Memorial Hospital’s Grief Support Group meets every 2nd and 4th Thursdays of each month at 10AM. \nCall 217-479-5755 for more information
URL:http://jacksonvilleil.org.dream.website/event/grief-support-group/2026-09-10/
LOCATION:Jacksonville Memorial Hospital\, 1600 W Walnut St\, Jacksonville\, IL\, 62650\, United States
END:VEVENT
BEGIN:VEVENT
DTSTART;TZID=America/Chicago:20261008T100000
DTEND;TZID=America/Chicago:20261008T110000
DTSTAMP:20260419T215111
CREATED:20230120T212754Z
LAST-MODIFIED:20230120T212754Z
UID:10002099-1791453600-1791457200@jacksonvilleil.org.dream.website
SUMMARY:Grief Support Group
DESCRIPTION:Jacksonville Memorial Hospital’s Grief Support Group meets every 2nd and 4th Thursdays of each month at 10AM. \nCall 217-479-5755 for more information
URL:http://jacksonvilleil.org.dream.website/event/grief-support-group/2026-10-08/
LOCATION:Jacksonville Memorial Hospital\, 1600 W Walnut St\, Jacksonville\, IL\, 62650\, United States
END:VEVENT
BEGIN:VEVENT
DTSTART;TZID=America/Chicago:20261112T100000
DTEND;TZID=America/Chicago:20261112T110000
DTSTAMP:20260419T215111
CREATED:20230120T212754Z
LAST-MODIFIED:20230120T212754Z
UID:10002100-1794477600-1794481200@jacksonvilleil.org.dream.website
SUMMARY:Grief Support Group
DESCRIPTION:Jacksonville Memorial Hospital’s Grief Support Group meets every 2nd and 4th Thursdays of each month at 10AM. \nCall 217-479-5755 for more information
URL:http://jacksonvilleil.org.dream.website/event/grief-support-group/2026-11-12/
LOCATION:Jacksonville Memorial Hospital\, 1600 W Walnut St\, Jacksonville\, IL\, 62650\, United States
END:VEVENT
BEGIN:VEVENT
DTSTART;TZID=America/Chicago:20261210T100000
DTEND;TZID=America/Chicago:20261210T110000
DTSTAMP:20260419T215111
CREATED:20230120T212754Z
LAST-MODIFIED:20230120T212754Z
UID:10002101-1796896800-1796900400@jacksonvilleil.org.dream.website
SUMMARY:Grief Support Group
DESCRIPTION:Jacksonville Memorial Hospital’s Grief Support Group meets every 2nd and 4th Thursdays of each month at 10AM. \nCall 217-479-5755 for more information
URL:http://jacksonvilleil.org.dream.website/event/grief-support-group/2026-12-10/
LOCATION:Jacksonville Memorial Hospital\, 1600 W Walnut St\, Jacksonville\, IL\, 62650\, United States
END:VEVENT
BEGIN:VEVENT
DTSTART;TZID=America/Chicago:20270114T100000
DTEND;TZID=America/Chicago:20270114T110000
DTSTAMP:20260419T215111
CREATED:20230120T212754Z
LAST-MODIFIED:20230120T212754Z
UID:10002102-1799920800-1799924400@jacksonvilleil.org.dream.website
SUMMARY:Grief Support Group
DESCRIPTION:Jacksonville Memorial Hospital’s Grief Support Group meets every 2nd and 4th Thursdays of each month at 10AM. \nCall 217-479-5755 for more information
URL:http://jacksonvilleil.org.dream.website/event/grief-support-group/2027-01-14/
LOCATION:Jacksonville Memorial Hospital\, 1600 W Walnut St\, Jacksonville\, IL\, 62650\, United States
END:VEVENT
BEGIN:VEVENT
DTSTART;TZID=America/Chicago:20270211T100000
DTEND;TZID=America/Chicago:20270211T110000
DTSTAMP:20260419T215111
CREATED:20230120T212754Z
LAST-MODIFIED:20230120T212754Z
UID:10002103-1802340000-1802343600@jacksonvilleil.org.dream.website
SUMMARY:Grief Support Group
DESCRIPTION:Jacksonville Memorial Hospital’s Grief Support Group meets every 2nd and 4th Thursdays of each month at 10AM. \nCall 217-479-5755 for more information
URL:http://jacksonvilleil.org.dream.website/event/grief-support-group/2027-02-11/
LOCATION:Jacksonville Memorial Hospital\, 1600 W Walnut St\, Jacksonville\, IL\, 62650\, United States
END:VEVENT
BEGIN:VEVENT
DTSTART;TZID=America/Chicago:20270311T100000
DTEND;TZID=America/Chicago:20270311T110000
DTSTAMP:20260419T215111
CREATED:20230120T212754Z
LAST-MODIFIED:20230120T212754Z
UID:10002104-1804759200-1804762800@jacksonvilleil.org.dream.website
SUMMARY:Grief Support Group
DESCRIPTION:Jacksonville Memorial Hospital’s Grief Support Group meets every 2nd and 4th Thursdays of each month at 10AM. \nCall 217-479-5755 for more information
URL:http://jacksonvilleil.org.dream.website/event/grief-support-group/2027-03-11/
LOCATION:Jacksonville Memorial Hospital\, 1600 W Walnut St\, Jacksonville\, IL\, 62650\, United States
END:VEVENT
BEGIN:VEVENT
DTSTART;TZID=America/Chicago:20270408T100000
DTEND;TZID=America/Chicago:20270408T110000
DTSTAMP:20260419T215111
CREATED:20230120T212754Z
LAST-MODIFIED:20230120T212754Z
UID:10002105-1807178400-1807182000@jacksonvilleil.org.dream.website
SUMMARY:Grief Support Group
DESCRIPTION:Jacksonville Memorial Hospital’s Grief Support Group meets every 2nd and 4th Thursdays of each month at 10AM. \nCall 217-479-5755 for more information
URL:http://jacksonvilleil.org.dream.website/event/grief-support-group/2027-04-08/
LOCATION:Jacksonville Memorial Hospital\, 1600 W Walnut St\, Jacksonville\, IL\, 62650\, United States
END:VEVENT
BEGIN:VEVENT
DTSTART;TZID=America/Chicago:20270513T100000
DTEND;TZID=America/Chicago:20270513T110000
DTSTAMP:20260419T215111
CREATED:20230120T212754Z
LAST-MODIFIED:20230120T212754Z
UID:10002106-1810202400-1810206000@jacksonvilleil.org.dream.website
SUMMARY:Grief Support Group
DESCRIPTION:Jacksonville Memorial Hospital’s Grief Support Group meets every 2nd and 4th Thursdays of each month at 10AM. \nCall 217-479-5755 for more information
URL:http://jacksonvilleil.org.dream.website/event/grief-support-group/2027-05-13/
LOCATION:Jacksonville Memorial Hospital\, 1600 W Walnut St\, Jacksonville\, IL\, 62650\, United States
END:VEVENT
BEGIN:VEVENT
DTSTART;TZID=America/Chicago:20270610T100000
DTEND;TZID=America/Chicago:20270610T110000
DTSTAMP:20260419T215111
CREATED:20230120T212754Z
LAST-MODIFIED:20230120T212754Z
UID:10002107-1812621600-1812625200@jacksonvilleil.org.dream.website
SUMMARY:Grief Support Group
DESCRIPTION:Jacksonville Memorial Hospital’s Grief Support Group meets every 2nd and 4th Thursdays of each month at 10AM. \nCall 217-479-5755 for more information
URL:http://jacksonvilleil.org.dream.website/event/grief-support-group/2027-06-10/
LOCATION:Jacksonville Memorial Hospital\, 1600 W Walnut St\, Jacksonville\, IL\, 62650\, United States
END:VEVENT
BEGIN:VEVENT
DTSTART;TZID=America/Chicago:20270708T100000
DTEND;TZID=America/Chicago:20270708T110000
DTSTAMP:20260419T215111
CREATED:20230120T212754Z
LAST-MODIFIED:20230120T212754Z
UID:10002108-1815040800-1815044400@jacksonvilleil.org.dream.website
SUMMARY:Grief Support Group
DESCRIPTION:Jacksonville Memorial Hospital’s Grief Support Group meets every 2nd and 4th Thursdays of each month at 10AM. \nCall 217-479-5755 for more information
URL:http://jacksonvilleil.org.dream.website/event/grief-support-group/2027-07-08/
LOCATION:Jacksonville Memorial Hospital\, 1600 W Walnut St\, Jacksonville\, IL\, 62650\, United States
END:VEVENT
BEGIN:VEVENT
DTSTART;TZID=America/Chicago:20270812T100000
DTEND;TZID=America/Chicago:20270812T110000
DTSTAMP:20260419T215111
CREATED:20230120T212754Z
LAST-MODIFIED:20230120T212754Z
UID:10002109-1818064800-1818068400@jacksonvilleil.org.dream.website
SUMMARY:Grief Support Group
DESCRIPTION:Jacksonville Memorial Hospital’s Grief Support Group meets every 2nd and 4th Thursdays of each month at 10AM. \nCall 217-479-5755 for more information
URL:http://jacksonvilleil.org.dream.website/event/grief-support-group/2027-08-12/
LOCATION:Jacksonville Memorial Hospital\, 1600 W Walnut St\, Jacksonville\, IL\, 62650\, United States
END:VEVENT
BEGIN:VEVENT
DTSTART;TZID=America/Chicago:20270909T100000
DTEND;TZID=America/Chicago:20270909T110000
DTSTAMP:20260419T215111
CREATED:20230120T212754Z
LAST-MODIFIED:20230120T212754Z
UID:10002110-1820484000-1820487600@jacksonvilleil.org.dream.website
SUMMARY:Grief Support Group
DESCRIPTION:Jacksonville Memorial Hospital’s Grief Support Group meets every 2nd and 4th Thursdays of each month at 10AM. \nCall 217-479-5755 for more information
URL:http://jacksonvilleil.org.dream.website/event/grief-support-group/2027-09-09/
LOCATION:Jacksonville Memorial Hospital\, 1600 W Walnut St\, Jacksonville\, IL\, 62650\, United States
END:VEVENT
BEGIN:VEVENT
DTSTART;TZID=America/Chicago:20271014T100000
DTEND;TZID=America/Chicago:20271014T110000
DTSTAMP:20260419T215111
CREATED:20230120T212754Z
LAST-MODIFIED:20230120T212754Z
UID:10002111-1823508000-1823511600@jacksonvilleil.org.dream.website
SUMMARY:Grief Support Group
DESCRIPTION:Jacksonville Memorial Hospital’s Grief Support Group meets every 2nd and 4th Thursdays of each month at 10AM. \nCall 217-479-5755 for more information
URL:http://jacksonvilleil.org.dream.website/event/grief-support-group/2027-10-14/
LOCATION:Jacksonville Memorial Hospital\, 1600 W Walnut St\, Jacksonville\, IL\, 62650\, United States
END:VEVENT
BEGIN:VEVENT
DTSTART;TZID=America/Chicago:20271111T100000
DTEND;TZID=America/Chicago:20271111T110000
DTSTAMP:20260419T215111
CREATED:20230120T212754Z
LAST-MODIFIED:20230120T212754Z
UID:10002112-1825927200-1825930800@jacksonvilleil.org.dream.website
SUMMARY:Grief Support Group
DESCRIPTION:Jacksonville Memorial Hospital’s Grief Support Group meets every 2nd and 4th Thursdays of each month at 10AM. \nCall 217-479-5755 for more information
URL:http://jacksonvilleil.org.dream.website/event/grief-support-group/2027-11-11/
LOCATION:Jacksonville Memorial Hospital\, 1600 W Walnut St\, Jacksonville\, IL\, 62650\, United States
END:VEVENT
BEGIN:VEVENT
DTSTART;TZID=America/Chicago:20271209T100000
DTEND;TZID=America/Chicago:20271209T110000
DTSTAMP:20260419T215111
CREATED:20230120T212754Z
LAST-MODIFIED:20230120T212754Z
UID:10002113-1828346400-1828350000@jacksonvilleil.org.dream.website
SUMMARY:Grief Support Group
DESCRIPTION:Jacksonville Memorial Hospital’s Grief Support Group meets every 2nd and 4th Thursdays of each month at 10AM. \nCall 217-479-5755 for more information
URL:http://jacksonvilleil.org.dream.website/event/grief-support-group/2027-12-09/
LOCATION:Jacksonville Memorial Hospital\, 1600 W Walnut St\, Jacksonville\, IL\, 62650\, United States
END:VEVENT
BEGIN:VEVENT
DTSTART;TZID=America/Chicago:20280113T100000
DTEND;TZID=America/Chicago:20280113T110000
DTSTAMP:20260419T215111
CREATED:20230120T212754Z
LAST-MODIFIED:20230120T212754Z
UID:10002114-1831370400-1831374000@jacksonvilleil.org.dream.website
SUMMARY:Grief Support Group
DESCRIPTION:Jacksonville Memorial Hospital’s Grief Support Group meets every 2nd and 4th Thursdays of each month at 10AM. \nCall 217-479-5755 for more information
URL:http://jacksonvilleil.org.dream.website/event/grief-support-group/2028-01-13/
LOCATION:Jacksonville Memorial Hospital\, 1600 W Walnut St\, Jacksonville\, IL\, 62650\, United States
END:VEVENT
END:VCALENDAR